BEGIN:VCALENDAR
VERSION:2.0
PRODID:-//Programa Educativo UGR - ECPv4.6//NONSGML v1.0//EN
CALSCALE:GREGORIAN
METHOD:PUBLISH
X-WR-CALNAME:Programa Educativo UGR
X-ORIGINAL-URL:https://educa.ugr.es
X-WR-CALDESC:Events for Programa Educativo UGR
BEGIN:VEVENT
DTSTART;TZID=Europe/Madrid:20201112T100000
DTEND;TZID=Europe/Madrid:20201112T110000
DTSTAMP:20260422T125937
CREATED:20201029T093505Z
LAST-MODIFIED:20201029T093521Z
UID:15545-1605175200-1605178800@educa.ugr.es
SUMMARY:"Ciencia y salud: los nuevos retos de la Biomedicina"
DESCRIPTION:CIENCIA Y SOCIEDAD\n\n\n\n\nInvestigador-a \n\nNombre de la Charla\nDepartamento\nDía y hora\n\nNivel educativo \n\n\n\n\nDavid Carmona \n\n“Ciencia y salud: los nuevos retos de la Biomedicina”\nDepartamento de Genética\n12 de noviembre a las 10:00 horas\n\nSecundaria \n\n\n\n\nEnlace: https://meet.google.com/uoh-swas-gfs\n
URL:https://educa.ugr.es/evento/15545/
LOCATION:Granada\, España
CATEGORIES:Ciencia y Tecnología
ATTACH;FMTTYPE=image/jpeg:https://educa.ugr.es/wp-content/uploads/2020/10/Ciencia-y-sociedad.jpg
END:VEVENT
END:VCALENDAR