BEGIN:VCALENDAR
VERSION:2.0
PRODID:-//Programa Educativo UGR - ECPv4.6//NONSGML v1.0//EN
CALSCALE:GREGORIAN
METHOD:PUBLISH
X-WR-CALNAME:Programa Educativo UGR
X-ORIGINAL-URL:https://educa.ugr.es
X-WR-CALDESC:Events for Programa Educativo UGR
BEGIN:VEVENT
DTSTART;TZID=Europe/Madrid:20201106T110000
DTEND;TZID=Europe/Madrid:20201106T113000
DTSTAMP:20260419T185901
CREATED:20201029T095342Z
LAST-MODIFIED:20201029T095352Z
UID:15569-1604660400-1604662200@educa.ugr.es
SUMMARY:“Inteligencia Artificial: Regreso al futuro”
DESCRIPTION:CAFÉ CON CIENCIA\n\n\n\n\nInvestigador-a \n\nTítulo del café\nDepartamento y facultad\nDía\nHora\n\n\nJosé Luis Verdegay Galdeano\n“Inteligencia Artificial: Regreso al futuro”\nDepartamento de Ciencias de la Computación e Inteligencia Artificial. E.T.S. de Ingenierías Informática y de Telecomunicación\nViernes\, 6 de noviembre\n\n11:00 \n\n\n\n\nEnlace: https://meet.google.com/ahq-unbx-fop\n
URL:https://educa.ugr.es/evento/15569/
LOCATION:Granada\, España
CATEGORIES:Ciencia y Tecnología
ATTACH;FMTTYPE=image/jpeg:https://educa.ugr.es/wp-content/uploads/2020/10/cafe-con-ciencia.jpg
END:VEVENT
END:VCALENDAR