BEGIN:VCALENDAR
VERSION:2.0
PRODID:-//Programa Educativo UGR - ECPv4.6//NONSGML v1.0//EN
CALSCALE:GREGORIAN
METHOD:PUBLISH
X-WR-CALNAME:Programa Educativo UGR
X-ORIGINAL-URL:https://educa.ugr.es
X-WR-CALDESC:Events for Programa Educativo UGR
BEGIN:VEVENT
DTSTART;TZID=Europe/Madrid:20201109T100000
DTEND;TZID=Europe/Madrid:20201109T103000
DTSTAMP:20260420T155105
CREATED:20201029T095641Z
LAST-MODIFIED:20201029T095651Z
UID:15573-1604916000-1604917800@educa.ugr.es
SUMMARY:“El agua…el motor de la Biosfera”
DESCRIPTION:CAFÉ CON CIENCIA\n\n\n\n\nInvestigador-a \n\nTítulo del café\nDepartamento y facultad\nDía\nHora\n\n\nManuel Villar Argaiz\n“El agua…el motor de la Biosfera”\nDepartamento de Ecología \nFacultad de Ciencias\nLunes\, 9 de noviembre\n\n10:00 \n\n\n\n\nEnlace: https://meet.google.com/ahq-unbx-fop\n
URL:https://educa.ugr.es/evento/15573/
LOCATION:Granada\, España
CATEGORIES:Ciencia y Tecnología
ATTACH;FMTTYPE=image/jpeg:https://educa.ugr.es/wp-content/uploads/2020/10/cafe-con-ciencia.jpg
END:VEVENT
END:VCALENDAR