BEGIN:VCALENDAR
VERSION:2.0
PRODID:-//Programa Educativo UGR - ECPv4.6//NONSGML v1.0//EN
CALSCALE:GREGORIAN
METHOD:PUBLISH
X-WR-CALNAME:Programa Educativo UGR
X-ORIGINAL-URL:https://educa.ugr.es
X-WR-CALDESC:Events for Programa Educativo UGR
BEGIN:VEVENT
DTSTART;TZID=Europe/Madrid:20201111T100000
DTEND;TZID=Europe/Madrid:20201111T103000
DTSTAMP:20260420T080058
CREATED:20201029T095918Z
LAST-MODIFIED:20201029T095932Z
UID:15577-1605088800-1605090600@educa.ugr.es
SUMMARY:“Nuevos biomarcadores en cáncer”
DESCRIPTION:CAFÉ CON CIENCIA\n\n\n\n\nInvestigador-a \n\nTítulo del café\nDepartamento y facultad\nDía\nHora\n\n\n\nMarta Cuadros Celorrio \n\n\n“Nuevos biomarcadores en cáncer” \n \n\nDepartamento de Bioquímica y Biología Molecular III e Inmunología. Facultad de Medicina \n\n\nMiércoles\, 11 de noviembre \n\n\n10:00 \n\n\n\n\nEnlace: https://meet.google.com/ahq-unbx-fop\n
URL:https://educa.ugr.es/evento/15577/
LOCATION:Granada\, España
CATEGORIES:Ciencia y Tecnología
ATTACH;FMTTYPE=image/jpeg:https://educa.ugr.es/wp-content/uploads/2020/10/cafe-con-ciencia.jpg
END:VEVENT
END:VCALENDAR