BEGIN:VCALENDAR
VERSION:2.0
PRODID:-//Programa Educativo UGR - ECPv4.6//NONSGML v1.0//EN
CALSCALE:GREGORIAN
METHOD:PUBLISH
X-WR-CALNAME:Programa Educativo UGR
X-ORIGINAL-URL:https://educa.ugr.es
X-WR-CALDESC:Events for Programa Educativo UGR
BEGIN:VEVENT
DTSTART;TZID=Europe/Madrid:20201113T100000
DTEND;TZID=Europe/Madrid:20201113T103000
DTSTAMP:20260420T045855
CREATED:20201029T100549Z
LAST-MODIFIED:20201029T100610Z
UID:15585-1605261600-1605263400@educa.ugr.es
SUMMARY: “De la ingeniería a la medicina”
DESCRIPTION:CAFÉ CON CIENCIA\n\n\n\n\nInvestigador-a \n\nTítulo del café\nDepartamento y facultad\nDía\nHora\n\n\n\nGuillermo Rus Carlborg \n\n “De la ingeniería a la medicina”\nDepartamento de Mecánica de Estructuras e Ingeniería Hidráulica. E.T.S. de Ingeniería de Caminos\, Canales y Puertos\nViernes\, 13 de noviembre\n\n10:00 \n\n\n\n\nEnlace: https://meet.google.com/ahq-unbx-fop\n
URL:https://educa.ugr.es/evento/15585/
LOCATION:Granada\, España
CATEGORIES:Ciencia y Tecnología
ATTACH;FMTTYPE=image/jpeg:https://educa.ugr.es/wp-content/uploads/2020/10/cafe-con-ciencia.jpg
END:VEVENT
END:VCALENDAR