BEGIN:VCALENDAR
VERSION:2.0
PRODID:-//Programa Educativo UGR - ECPv4.6//NONSGML v1.0//EN
CALSCALE:GREGORIAN
METHOD:PUBLISH
X-WR-CALNAME:Programa Educativo UGR
X-ORIGINAL-URL:https://educa.ugr.es
X-WR-CALDESC:Events for Programa Educativo UGR
BEGIN:VEVENT
DTSTART;VALUE=DATE:20180625
DTEND;VALUE=DATE:20180727
DTSTAMP:20260420T235145
CREATED:20180515T115731Z
LAST-MODIFIED:20180521T103940Z
UID:4093-1529884800-1532735999@educa.ugr.es
SUMMARY:Campus Multideporte Inclusivo y Preinclusivo
DESCRIPTION:El Centro de Actividades Deportivas (C.A.D.) organiza durante los meses de junio y julio un campus multideportivo para niños y niñas nacidos entre los años 2000 y 2011\, en horario de mañana. Podrán participar pertenezcan o no a la comunidad universitaria. \nDatos de la actividad\n\n\n\nFechas de realización: Del 25 de junio al 27 de julio de 2018\n\nLugar: Campus Náutico de la Universidad de Granada (embalse de Cubillas)\n\nEsta actividad está organizada por el Centro de Actividades Deportivas de la Universidad de Granada. \nMás información del Campus Multideporte     Accede al Centro de Actividades Deportivas – UGR \nEl Campus Multideporte gira en torno a múltiples actividades lúdico/deportivas. Bajo la supervisión de personal especializado\, permitirá al participante iniciarse y/o profundizar en la adquisición de habilidades específicas de varios deportes a través del juego y la interrelación con niños y niñas de similar edad. \nEn esta nueva edición del Campus Multideportes se han ofertado dos nuevos grupos: \n\n\nGrupo inclusivo: Para menores con algún tipo de discapacidad\, pero con autonomía en su día a día.\n\n\nGrupo pre-inclusivo: Para menores con algún tipo de discapacidad\, pero no independientes\, en los que les acompañeará en todo momento personal especializado.\n\n\nOBJETIVOS\n\nLos objetivos que se persiguen con este campus deportivo son: \n\n\nRelacionarse con niños y niñas de edades similares\n\n\nIniciarse y/o profundizar en la adquisición de habilidades específicas de múltiples deportes a través del juego\n\n\n\nACTIVIDADES DESARROLLADAS\n\n\n\nClases dirigidas de tenis (2 días/semana)\n\n\nDeportes colectivos: Fútbol (fútbol-sala)\, baloncesto (minibasket)\, balonmano y voleibol\n\n\nOtros deportes: Bádminton\, iniciación al rugby\, judo\, etc.\n\n\nJuegos alternativos: Indiaka\, frisbee\, malabares\, etc.\n\n\nJuegos con agua\n\n\nJuegos y actividades de conocimiento y sensibilización hacia la diversidad funcional\n\n\nEco-taller (salvo nacidos/as entre 2000 y 2005)\n\n\nTaller de expresión corporal y/o baile\n\n\nTalleres de “Primeros Auxilios” y otros\n\n\nLos/las participantes nacidos/as desde 2000 a 2005\, acudirán al Campus Náutico de la Universidad de Granada (embalse de Cubillas) bien en martes\, miércoles o jueves de las cinco semanas en función del número de inscritos\, para la práctica de deportes náuticos y actividades en la naturaleza\, con transporte incluido* organizado por el C.A.D. \n*Hora de salida las 09:00 horas y llegada a las 18:00 horas\, en ambos casos desde la rotonda de Severo Ochoa con Rector López Argüeta (entrada paseos universitarios de Fuentenueva). \n  \n \n
URL:https://educa.ugr.es/evento/campus-multideporte/
LOCATION:Granada\, España
GEO:37.1773363;-3.5985571
CATEGORIES:Deportes
ATTACH;FMTTYPE=image/jpeg:https://educa.ugr.es/wp-content/uploads/2018/05/DEPORTE-imagen-deporte.jpg
END:VEVENT
END:VCALENDAR