BEGIN:VCALENDAR
VERSION:2.0
PRODID:-//Programa Educativo UGR - ECPv4.6//NONSGML v1.0//EN
CALSCALE:GREGORIAN
METHOD:PUBLISH
X-WR-CALNAME:Programa Educativo UGR
X-ORIGINAL-URL:https://educa.ugr.es
X-WR-CALDESC:Events for Programa Educativo UGR
BEGIN:VEVENT
DTSTART;TZID=Europe/Madrid:20241217T110000
DTEND;TZID=Europe/Madrid:20241217T110000
DTSTAMP:20260422T162146
CREATED:20241030T135219Z
LAST-MODIFIED:20250718T101523Z
UID:19530-1734433200-1734433200@educa.ugr.es
SUMMARY:Sesión de cine para escolares «Día Internacional del cine 3D»
DESCRIPTION:\nFecha: martes\, 17 de diciembre de 2024\nHora: 11.00 h\nLugar: Sala Máxima del Espacio V Centenario\n\nDuración aproximada: 60 minutos \n\n\nPrograma dirigido a escolares del tercer ciclo de Educación Primaria\nInscripción previa y gratuita a través de formulario [enlace]\nPrograma organizado por el Cineclub Universitario UGR / Aula de Cine “Eugenio Martín”. \nCuenta con la colaboración de la Fundación Española para la Ciencia y la Tecnología – Ministerio de Ciencia e Innovación; y la Unidad de Cultura Científica y de la Innovación de la Universidad de Granada. \n\nPROYECCIÓN ESPECIAL DEDICADA AL CINE 3D \nParticipa en la celebración que vamos a llevar a cabo en el marco Día Internacional del Cine en 3D\, un evento especialmente diseñado para acercar a los escolares de Educación Primaria al fascinante mundo de la tecnología tridimensional en el cine. Este encuentro no solo ofrecerá una experiencia visual inmersiva\, sino también una oportunidad para que comprendamos la evolución y el impacto de las tecnologías audiovisuales en las industrias de la cultura y el entretenimiento. Para participar en este programa educativo dirigido a centros educativos es necesario que el profesorado interesado formule una solicitud a través de formulario web: \n\n\n\n\nFormulario de inscripción \n\n\n\n\n\nMás información sobre este programa en: programaeducativo@ugr.es \n#CineclubUGR\n\n\n
URL:https://educa.ugr.es/evento/cine-3d/
LOCATION:Granada\, Granada\, España
CATEGORIES:Cine, Música y Teatro
ATTACH;FMTTYPE=image/jpeg:https://educa.ugr.es/wp-content/uploads/2024/10/abstract-surface-textures-white-concrete-stone-wall-scaled.jpg
END:VEVENT
END:VCALENDAR