BEGIN:VCALENDAR
VERSION:2.0
PRODID:-//Programa Educativo UGR - ECPv4.6//NONSGML v1.0//EN
CALSCALE:GREGORIAN
METHOD:PUBLISH
X-WR-CALNAME:Programa Educativo UGR
X-ORIGINAL-URL:https://educa.ugr.es
X-WR-CALDESC:Events for Programa Educativo UGR
BEGIN:VEVENT
DTSTART;TZID=Europe/Madrid:20260421T110000
DTEND;TZID=Europe/Madrid:20260421T110000
DTSTAMP:20260420T121750
CREATED:20260413T130944Z
LAST-MODIFIED:20260414T104650Z
UID:20900-1776769200-1776769200@educa.ugr.es
SUMMARY:Visita teatralizada al Museo de la Salud | MUSAL
DESCRIPTION:Martes\, 21 de abril de 2026\nHorario: de 11.00 a 12.00 horas\nActividad organizada con la colaboración del Grupo de Teatro y Danza y el Área de Patrimonio de la UGR \nInscripción previa y gratuita aquí. \n\nEl MUSAL – Museo de la Salud de la UGR abre sus puertas de una manera única en el marco del Desgranando FEST: a través de una experiencia teatralizada en la que la ciencia sale de las vitrinas para convertirse en una narración con nombre propio. Esta no es una clase de medicina; es una celebración de la curiosidad humana. Para demostrar que el conocimiento en salud ha sido y es una herramienta clave para todas las sociedades\, convertiremos las salas del museo en una auténtica máquina del tiempo. Esta actividad diseñada para todos los públicos acercará la complejidad de la salud y los cuidados a un lenguaje cercano que busque provocar la emoción y el asombro. \nLa actividad estará dinamizada por el Grupo de Teatro de la UGR\, bajo la dirección de Mario de la Torre\, y apoyada en las ideas presentadas por el equipo de mediación del Área de Patrimonio de la UGR. \nInscripción previa y gratuita en el siguiente formulario. \nPrograma completo en: https://desgranandofest.com/ \nActividad organizada por la Unidad de Cultura Científica y de la Innovación\, el Área de Patrimonio y el Grupo de Teatro y Danza de la UGR\, con la colaboración de la Fundación Española para la Ciencia y la Tecnología (FECYT) – Ministerio de Innovación\, Ciencia y Universidades. \n \n#UGRdivulga\n  \n  \n
URL:https://educa.ugr.es/evento/musal-fest/
LOCATION:Granada\, España
CATEGORIES:Ciencia y Tecnología
ATTACH;FMTTYPE=image/png:https://educa.ugr.es/wp-content/uploads/2026/03/imagen-horiz.png
END:VEVENT
END:VCALENDAR