BEGIN:VCALENDAR
VERSION:2.0
PRODID:-//Programa Educativo UGR - ECPv4.6//NONSGML v1.0//EN
CALSCALE:GREGORIAN
METHOD:PUBLISH
X-WR-CALNAME:Programa Educativo UGR
X-ORIGINAL-URL:https://educa.ugr.es
X-WR-CALDESC:Events for Programa Educativo UGR
BEGIN:VEVENT
DTSTART;TZID=Europe/Madrid:20231003T183000
DTEND;TZID=Europe/Madrid:20231003T183000
DTSTAMP:20260420T143642
CREATED:20230928T110813Z
LAST-MODIFIED:20230929T064027Z
UID:18669-1696357800-1696357800@educa.ugr.es
SUMMARY:Programa Artemis: Objetivo Marte
DESCRIPTION:Conferencia de Carlos García-Galán\, uno de los responsables del Proyecto Orión de la agencia espacial estadounidense\, que tiene como objetivo llevar al hombre a Marte\, aunque antes de ello se está desplegando el programa Artemis\, que ha de hacer posible que el hombre pise de nuevo la superficie lunar\, medio siglo después de las misiones Apollo. \nEste experto es el responsable de la integración del módulo de servicio europeo de la nave Orión\, que paseó alrededor de la Luna durante veintiséis días. También ha participado en otras facetas del diseño e integración de la nave Orión y las misiones de Artemis. \nDurante la misión Artemis I\, García-Galán lideró al equipo de ingeniería de Orión que apoyó todas operaciones desde el lanzamiento hasta la vuelta a la Tierra. \nEn el acto intervendrán: \n\nJim Geffre\, responsable de integración del vehículo de la Nave Orion (NASA)\nVanesa Martos Muñoz\, catedrática de Fisiología Vegetal en la Universidad de Granada\nJuan Chiachío Ruano\, profesor titular en el Departamento de Mecánica de Estructuras e Ingeniería Hidráulica\nJuan Fernández Salas\, Departamento de Mecánica de Estructuras e Ingeniería Hidráulica.\n\n\nFecha: Martes\, 3 de octubre de 2023\nLugar: Facultad de Ciencias – Salón de Grados\nHorario: 18:30 h\nOrganizado por el Vicerrectorado de Extensión Universitaria\, Patrimonio y Relaciones Institucionales a través de Educa UGR y la Facultad de Ciencias de Granada con la colaboración de la Fundación Española para la Ciencia y la Tecnología (FECYT) –  Ministerio de Ciencia\, Innovación y Universidades del Gobierno de España \nMás información:\nUnidad de Cultura Científica\nVicerrectorado de Extensión Universitaria\, Patrimonio y Relaciones Institucionales\nculturacientifica@ugr.es \n
URL:https://educa.ugr.es/evento/objetivo-marte/
LOCATION:Campus de Fuentenueva\, Granada\, España
GEO:37,1826981;-3,6058544
X-APPLE-STRUCTURED-LOCATION;VALUE=URI;X-ADDRESS=Campus de Fuentenueva Granada España;X-APPLE-RADIUS=500;X-TITLE=Campus de Fuentenueva:geo:-3,6058544,37,1826981
CATEGORIES:Ciencia y Tecnología
ATTACH;FMTTYPE=image/png:https://educa.ugr.es/wp-content/uploads/2023/09/ART_H-W.png
END:VEVENT
END:VCALENDAR